BEGIN:VCALENDAR
VERSION:2.0
PRODID:-//81.169.145.66//NONSGML kigkonsult.se iCalcreator 2.20//
CALSCALE:GREGORIAN
METHOD:PUBLISH
X-WR-TIMEZONE:Europe/Berlin
BEGIN:VEVENT
UID:event134@Surf & Segelclub Jockgrim
DTSTAMP:20260421T113219Z
CATEGORIES:Surfclub
DESCRIPTION:Arbeitseinsatz\nKategorie: Surfclub\nICS-Link: http://www.scj-e
 v.de/index.php?option=com_jem&view=event&id=134:arbeitseinsatz\n
DTSTART;TZID=Europe/Berlin:20260530T100000
DTEND;TZID=Europe/Berlin:20260530T130000
LOCATION:Vereinsgelände\,Johanneswiesen\,76751 Jockgrim\,Germany
SUMMARY:Arbeitseinsatz
URL:http://www.scj-ev.de/index.php?option=com_jem&view=event&id=134:arbeits
 einsatz
END:VEVENT
BEGIN:VEVENT
UID:event139@Surf & Segelclub Jockgrim
DTSTAMP:20260421T113219Z
CATEGORIES:Surfclub
DESCRIPTION:Arbeitseinsatz\nKategorie: Surfclub\nICS-Link: http://www.scj-e
 v.de/index.php?option=com_jem&view=event&id=139:arbeitseinsatz\n
DTSTART;TZID=Europe/Berlin:20261024T100000
DTEND;TZID=Europe/Berlin:20261024T130000
LOCATION:Vereinsgelände\,Johanneswiesen\,76751 Jockgrim\,Germany
SUMMARY:Arbeitseinsatz
URL:http://www.scj-ev.de/index.php?option=com_jem&view=event&id=139:arbeits
 einsatz
END:VEVENT
BEGIN:VEVENT
UID:event137@Surf & Segelclub Jockgrim
DTSTAMP:20260421T113219Z
CATEGORIES:Surfclub
DESCRIPTION:Kurs Windsurfen für Fortgeschrittene für Mitglieder\nKategorie:
  Surfclub\nICS-Link: http://www.scj-ev.de/index.php?option=com_jem&view=ev
 ent&id=137:kurs-windsurfen-fuer-fortgeschrittene-fuer-mitglieder\n
DTSTART;TZID=Europe/Berlin:20260906T110000
DTEND;TZID=Europe/Berlin:20260906T140000
LOCATION:Vereinsgelände\,Johanneswiesen\,76751 Jockgrim\,Germany
SUMMARY:Kurs Windsurfen für Fortgeschrittene für Mitglieder
URL:http://www.scj-ev.de/index.php?option=com_jem&view=event&id=137:kurs-wi
 ndsurfen-fuer-fortgeschrittene-fuer-mitglieder
END:VEVENT
BEGIN:VEVENT
UID:event136@Surf & Segelclub Jockgrim
DTSTAMP:20260421T113219Z
CATEGORIES:Surfclub
DESCRIPTION:Kurs Windsurfen für Vereinsmitglieder\nKategorie: Surfclub\nICS
 -Link: http://www.scj-ev.de/index.php?option=com_jem&view=event&id=136:kur
 s-windsurfen\n
DTSTART;TZID=Europe/Berlin:20260816T110000
DTEND;TZID=Europe/Berlin:20260816T140000
LOCATION:Vereinsgelände\,Johanneswiesen\,76751 Jockgrim\,Germany
SUMMARY:Kurs Windsurfen für Vereinsmitglieder
URL:http://www.scj-ev.de/index.php?option=com_jem&view=event&id=136:kurs-wi
 ndsurfen
END:VEVENT
BEGIN:VEVENT
UID:event138@Surf & Segelclub Jockgrim
DTSTAMP:20260421T113219Z
CATEGORIES:Surfclub
DESCRIPTION:Absurfen\nKategorie: Surfclub\nICS-Link: http://www.scj-ev.de/i
 ndex.php?option=com_jem&view=event&id=138:absurfen\n
DTSTART;TZID=Europe/Berlin:20260913T120000
DTEND;TZID=Europe/Berlin:20260913T120000
LOCATION:Vereinsgelände\,Johanneswiesen\,76751 Jockgrim\,Germany
SUMMARY:Absurfen
URL:http://www.scj-ev.de/index.php?option=com_jem&view=event&id=138:absurfe
 n
END:VEVENT
BEGIN:VEVENT
UID:event132@Surf & Segelclub Jockgrim
DTSTAMP:20260421T113219Z
CATEGORIES:Surfclub
DESCRIPTION:Ansurfen / Saisoneröffnung\nKategorie: Surfclub\nICS-Link: http
 ://www.scj-ev.de/index.php?option=com_jem&view=event&id=132:anrufen-saison
 eroeffnung\n
DTSTART;TZID=Europe/Berlin:20260510T120000
DTEND;TZID=Europe/Berlin:20260510T120000
LOCATION:Vereinsgelände\,Johanneswiesen\,76751 Jockgrim\,Germany
SUMMARY:Ansurfen / Saisoneröffnung
URL:http://www.scj-ev.de/index.php?option=com_jem&view=event&id=132:anrufen
 -saisoneroeffnung
END:VEVENT
BEGIN:VEVENT
UID:event135@Surf & Segelclub Jockgrim
DTSTAMP:20260421T113219Z
CATEGORIES:Surfclub
DESCRIPTION:Sommerfest\nKategorie: Surfclub\nICS-Link: http://www.scj-ev.de
 /index.php?option=com_jem&view=event&id=135:sommerfest\n
DTSTART;TZID=Europe/Berlin:20260705T120000
DTEND;TZID=Europe/Berlin:20260705T120000
LOCATION:Vereinsgelände\,Johanneswiesen\,76751 Jockgrim\,Germany
SUMMARY:Sommerfest
URL:http://www.scj-ev.de/index.php?option=com_jem&view=event&id=135:sommerf
 est
END:VEVENT
BEGIN:VEVENT
UID:event133@Surf & Segelclub Jockgrim
DTSTAMP:20260421T113219Z
CATEGORIES:Surfclub
DESCRIPTION:Jahreshauptversammlung\nKategorie: Surfclub\nICS-Link: http://w
 ww.scj-ev.de/index.php?option=com_jem&view=event&id=133:jahreshauptversamm
 lung\n
DTSTART;TZID=Europe/Berlin:20260520T190000
DTEND;TZID=Europe/Berlin:20260520T190000
SUMMARY:Jahreshauptversammlung
URL:http://www.scj-ev.de/index.php?option=com_jem&view=event&id=133:jahresh
 auptversammlung
END:VEVENT
BEGIN:VEVENT
UID:event140@Surf & Segelclub Jockgrim
DTSTAMP:20260421T113219Z
CATEGORIES:Surfclub
DESCRIPTION:Weihnachtsfeier\nKategorie: Surfclub\nICS-Link: http://www.scj-
 ev.de/index.php?option=com_jem&view=event&id=140:weihnachtsfeier\n
DTSTART;TZID=Europe/Berlin:20261211T190000
DTEND;TZID=Europe/Berlin:20261211T190000
SUMMARY:Weihnachtsfeier
URL:http://www.scj-ev.de/index.php?option=com_jem&view=event&id=140:weihnac
 htsfeier
END:VEVENT
END:VCALENDAR